BEGIN:VCALENDAR

VERSION:2.0

PRODID:-//hacksw/handcal//NONSGML v1.0//EN

BEGIN:VEVENT

UID:19d61beb88da764f146704829b17147d

DTSTAMP:20260424T141154Z

DTSTART:20210227T143000

DTEND:20210227T150000

SUMMARY:L5173024 - 17/12 Peter Court, SUNNYBANK HILLS QLD 4109

LOCATION:17/12 Peter Court, SUNNYBANK HILLS QLD 4109

END:VEVENT

END:VCALENDAR