BEGIN:VCALENDAR

VERSION:2.0

PRODID:-//hacksw/handcal//NONSGML v1.0//EN

BEGIN:VEVENT

UID:a0a1cfe718f41cee6f4aa45cbed507e9

DTSTAMP:20260424T141345Z

DTSTART:20210227T100000

DTEND:20210227T103000

SUMMARY:R932583 - 7/40 Bell Street, KANGAROO POINT QLD 4169

LOCATION:7/40 Bell Street, KANGAROO POINT QLD 4169

END:VEVENT

END:VCALENDAR