BEGIN:VCALENDAR

VERSION:2.0

PRODID:-//hacksw/handcal//NONSGML v1.0//EN

BEGIN:VEVENT

UID:149fb28b0ff2de11bd2f96c31e77d649

DTSTAMP:20210225T204041Z

DTSTART:20210227T113000

DTEND:20210227T120000

SUMMARY:R932623 - 1910/35 Campbell St, BOWEN HILLS QLD 4006

LOCATION:1910/35 Campbell St, BOWEN HILLS QLD 4006

END:VEVENT

END:VCALENDAR